Workbook
Name 月: リスト!$B$2:$B$13
Name 年度: リスト!$A$2:$A$101

Sheet 申請書
U1: 管理No
A2: 2027年度「エフピコ環境基金」 助成申請書
A5: １．申請団体
A6: （フリガナ） | F6: =PHONETIC($F$7)
A7: 申請団体名
A9: （フリガナ） | F9: =PHONETIC(F10)
A10: 代表者名
A12: 事務所所在地 | F12: 〒
A15: 団体HP
A18: ２．連絡窓口
A19: 2-1 連絡主担当者
A20: （フリガナ） | F20: =PHONETIC(F21)
A21: 代表者名
A23: 事務所所在地 | F23: 〒
A26: 電話番号 | N26: E－mail
A29: 2-2 連絡副担当者
A30: （フリガナ） | F30: =PHONETIC(F31)
A31: 代表者名
A33: 事務所所在地 | F33: 〒
A36: 電話番号 | N36: E－mail
A39: ３．団体について
A40: 団体設立 | F40: 西暦 | K40: 年 | N40: 月 | O40: ※前身の団体があれば、前身の団体の設立年月
A42: 法人格取得年月 ※NPO、社団・財団法人のみ | F42: 西暦 | K42: 年 | N42: 月 | O42: ※なしの場合は「-」と記入してください。
A44: 日常の活動内容
A48: 直近事業年度 の財政状況 | F48: 期間 | K48: 年 | O48: 月 | P48: ～ | T48: 年 | X48: 月
F50: 経常収益 | P50: 経常費用
G51: 会費 | L51: 円 | M51: =IF(I51="","",I51/$I$56) | Q51: 事業費 | V51: 円 | W51: =IF(S51="","",S51/$S$53)
G52: 寄付 | L52: 円 | M52: =IF(I52="","",I52/$I$56) | Q52: 管理費 | V52: 円 | W52: =IF(S52="","",S52/$S$53)
G53: 助成金 | L53: 円 | M53: =IF(I53="","",I53/$I$56) | Q53: 合計 | S53: =SUM(S51:U52) -> 0 | V53: 円
G54: 事業収益 | L54: 円 | M54: =IF(I54="","",I54/$I$56)
G55: その他 | L55: 円 | M55: =IF(I55="","",I55/$I$56) | P55: 次期繰越金 | S55: =I56-S53 -> 0 | V55: 円
G56: 合計 | I56: =SUM(I51:K55) -> 0 | L56: 円
A57: 進行中の事業年度の財政状況（予算） | F57: 期間 | K57: 年 | O57: 月 | P57: ～ | T57: 年 | X57: 月
F59: 経常収益 | P59: 経常費用
G60: 会費 | L60: 円 | M60: =IF(I60="","",I60/$I$65) | Q60: 事業費 | V60: 円 | W60: =IF(S60="","",S60/$S$62)
G61: 寄付 | L61: 円 | M61: =IF(I61="","",I61/$I$65) | Q61: 管理費 | V61: 円 | W61: =IF(S61="","",S61/$S$62)
G62: 助成金 | L62: 円 | M62: =IF(I62="","",I62/$I$65) | Q62: 合計 | S62: =SUM(S60:U61) -> 0
G63: 事業収益 | L63: 円 | M63: =IF(I63="","",I63/$I$65)
G64: その他 | L64: 円 | M64: =IF(I64="","",I64/$I$65) | P64: 次期繰越金 | S64: =I65-S62 -> 0 | V64: 円
G65: 合計 | I65: =SUM(I60:K64) -> 0 | L65: 円
...

Sheet 活動計画・収支予算（2年目以降）
A1: 団体名 | C1: =IF(ISBLANK(申請書!$F$7),"",申請書!$F$7) | U1: 管理No | W1: =IF(ISBLANK(申請書!W1),"",申請書!W1)
A2: 2027年度「エフピコ環境基金」 助成申請書
A5: 2027年度（２年目）について
A6: 助成希望期間 | F6: 2028年 4月 ～ | J6: 2029 | L6: 年 | M6: 3 | O6: 月
A9: 活動計画 (250字以内）
A13: =IF(LEN(F9)>250,"文字数："&LEN(F9)&" 文字数オーバー！","")
AC14: 活動計画
AC15: 文字数 | AF15: =LEN(F9) -> 0 | AH15: 字
A17: 収入の部 | F17: 金額 （単位：円） | I17: 算定根拠・補足等
A19: 1.助成申請金額 | F19: =$I$65 -> 0 | I19: エフピコ環境基金
A22: 2.会費等自己資金
A25: 3.他の助成金等収入
A28: 4.寄付金収入
A31: 5.その他
A34: 合計 | F34: =SUM(F19:H33) -> 0
F37: ↓活動全体の支出金額と、エフピコ環境基金に申請する額を分けて記入してください。
A38: 支出の部 | F38: 金額 （単位：円） | I38: うち助成申請 金額（単位：円） | M38: 算定根拠・補足等
A40: 1.人件費・旅費 ・交通費・宿泊費
A43: =IF(ISBLANK($I$65),"",IF($I$65*0.3<$I$40,"割合が2年目の申請額の30％を超えています！","")) | AA43: =IF(ISBLANK($I40),"","人件費上限：") | AB43: =IF(ISBLANK($I40),"",I65*0.3)
AA44: =IF(ISBLANK($I40),"",$I$65) | AB44: =IF(ISBLANK($I40),"","×0.3")
A45: 2.機材及び備品費
A50: 3.会議費・通信費
A55: 4.業務委託費
A60: 5.その他経費
A65: 合計 | F65: =SUM(F40:H64) -> 0 | I65: =SUM(I40:K64) -> 0
A70: 2029年度（3年目）について
A71: 助成希望期間 | F71: 2029年 4月 ～ | J71: 2030 | L71: 年 | M71: 3 | O71: 月
A74: 活動計画 (250字以内）
A78: =IF(LEN(F74)>250,"文字数："&LEN(F74)&" 文字数オーバー！","")
AC79: 活動計画
AC80: 文字数 | AF80: =LEN(F74) -> 0 | AH80: 字
A82: 収入の部 | F82: 金額 （単位：円） | I82: 算定根拠・補足等
A84: 1.助成申請金額 | F84: =$I$130 -> 0 | I84: エフピコ環境基金
A87: 2.会費等自己資金
A90: 3.他の助成金等収入
A93: 4.寄付金収入
A96: 5.その他
A99: 合計 | F99: =SUM(F84:H98) -> 0
F102: ↓活動全体の支出金額と、エフピコ環境基金に申請する額を分けて記入してください。
A103: 支出の部 | F103: 金額 （単位：円） | I103: うち助成申請 金額（単位：円） | M103: 算定根拠・補足等
...

Sheet 【記入例】申請書
U1: 管理No
A2: 2027年度「エフピコ環境基金」 助成申請書
A5: １．申請団体
A6: （フリガナ） | F6: =PHONETIC($F$7) -> NPO法人エフピコ
A7: 申請団体名 | F7: NPO法人エフピコ
A9: （フリガナ） | F9: =PHONETIC(F10) -> エフピコ 太郎
A10: 代表者名 | F10: エフピコ 太郎
A12: 事務所所在地 | F12: 〒 | G12: 163-6037
F13: 東京都新宿区西新宿六丁目８番１号 新宿オークタワー3７階
A15: 団体HP | F15: https://www.fpco.jp/esg/environmenteffort/environmentalfund.html
A18: ２．連絡窓口
A19: 2-1 連絡主担当者
A20: （フリガナ） | F20: =PHONETIC(F21) -> エフピコ 太郎
A21: 代表者名 | F21: エフピコ 太郎
A23: 事務所所在地 | F23: 〒
F24: 同上
A26: 電話番号 | F26: 03-5325-7809 | N26: E－mail | Q26: fp-kankyokikin@fpco-net.co.jp
A29: 2-2 連絡副担当者
A30: （フリガナ） | F30: =PHONETIC(F31) -> エフピコ 次郎
A31: 代表者名 | F31: エフピコ 次郎
A33: 事務所所在地 | F33: 〒
F34: 同上
A36: 電話番号 | F36: 090-5325-×××× | N36: E－mail | Q36: fp-kankyokikin@fpco-net.co.jp
A39: ３．団体について
A40: 団体設立 | F40: 西暦 | H40: 1962 | K40: 年 | L40: 7 | N40: 月 | O40: ※前身の団体があれば、前身の団体の設立年月
A42: 法人格取得年月 ※NPO、社団・財団法人のみ | F42: 西暦 | H42: 1962 | K42: 年 | L42: 7 | N42: 月 | O42: ※なしの場合は「-」と記入してください。
A44: 日常の活動内容 | F44: 食品容器及びPETボトルの回収・リサイクル活動
A48: 直近事業年度 の財政状況 | F48: 期間 | H48: 2025 | K48: 年 | L48: 4 | O48: 月 | P48: ～ | Q48: 2026 | T48: 年 | U48: 3 | X48: 月
F50: 経常収益 | P50: 経常費用
G51: 会費 | I51: 10000 | L51: 円 | M51: =IF(I51="","",I51/$I$56) -> 0.0066666667 | Q51: 事業費 | S51: 1450000 | V51: 円 | W51: =IF(S51="","",S51/$S$53) -> 1
G52: 寄付 | I52: 100000 | L52: 円 | M52: =IF(I52="","",I52/$I$56) -> 0.066666667 | Q52: 管理費 | V52: 円 | W52: =IF(S52="","",S52/$S$53)
G53: 助成金 | I53: 1000000 | L53: 円 | M53: =IF(I53="","",I53/$I$56) -> 0.66666667 | Q53: 合計 | S53: =SUM(S51:U52) -> 1450000 | V53: 円
G54: 事業収益 | I54: 340000 | L54: 円 | M54: =IF(I54="","",I54/$I$56) -> 0.22666667
G55: その他 | I55: 50000 | L55: 円 | M55: =IF(I55="","",I55/$I$56) -> 0.033333333 | P55: 次期繰越金 | S55: =I56-S53 -> 50000 | V55: 円
G56: 合計 | I56: =SUM(I51:K55) -> 1500000 | L56: 円
A57: 進行中の事業年度の財政状況（予算） | F57: 期間 | H57: 2026 | K57: 年 | L57: 4 | O57: 月 | P57: ～ | Q57: 2027 | T57: 年 | U57: 3 | X57: 月
F59: 経常収益 | P59: 経常費用
G60: 会費 | I60: 10000 | L60: 円 | M60: =IF(I60="","",I60/$I$65) -> 0.0068965517 | Q60: 事業費 | S60: 1450000 | V60: 円 | W60: =IF(S60="","",S60/$S$62) -> 1
G61: 寄付 | I61: 100000 | L61: 円 | M61: =IF(I61="","",I61/$I$65) -> 0.068965517 | Q61: 管理費 | V61: 円 | W61: =IF(S61="","",S61/$S$62)
G62: 助成金 | I62: 1000000 | L62: 円 | M62: =IF(I62="","",I62/$I$65) -> 0.68965517 | Q62: 合計 | S62: =SUM(S60:U61) -> 1450000
...

Sheet 【記入例】活動計画・収支予算（2年目以降)
A1: 団体名 | C1: =IF(ISBLANK(申請書!$F$7),"",申請書!$F$7) | U1: 管理No | W1: =IF(ISBLANK(申請書!W1),"",申請書!W1)
A2: 2027年度「エフピコ環境基金」 助成申請書
A5: 2027年度（２年目）について
A6: 助成希望期間 | F6: 2028年 4月 ～ | J6: 2029 | L6: 年 | M6: 3 | O6: 月
A9: 活動計画 (250字以内） | F9: ◎〇月 VR工場見学映像の作成 ・・工場見学疑似体験用VR映像を作成しYoutube・HPへ公開。 〇月完成・公開 ◎〇月 ポスター作成 ・・トレーリサイクル啓蒙の為、消費者向けポスターを作成。スーパーマーケット○〇店舗に掲示 ◎出前事業、消費者団体とコラボした見学会の実施の定例化 ・・消費者団体の方々をリサイクル工場に招待し、意見交換を行う。月2回実施、参加予定数：〇〇名
A13: =IF(LEN(F9)>250,"文字数："&LEN(F9)&" 文字数オーバー！","")
AC14: 活動計画
AC15: 文字数 | AF15: =LEN(F9) -> 188 | AH15: 字
A17: 収入の部 | F17: 金額 （単位：円） | I17: 算定根拠・補足等
A19: 1.助成申請金額 | F19: =$I$65 -> 1500000 | I19: エフピコ環境基金
A22: 2.会費等自己資金 | F22: 10000
A25: 3.他の助成金等収入 | F25: 50000 | I25: 〇〇環境基金
A28: 4.寄付金収入
A31: 5.その他
A34: 合計 | F34: =SUM(F19:H33) -> 1560000
F37: ↓活動全体の支出金額と、エフピコ環境基金に申請する額を分けて記入してください。
A38: 支出の部 | F38: 金額 （単位：円） | I38: うち助成申請 金額（単位：円） | M38: 算定根拠・補足等
A40: 1.人件費・旅費 ・交通費・宿泊費 | F40: 500000 | I40: 450000 | M40: 消費者団体交通費
M41: 現地調査アルバイト代：1,000円/時×50人×10時間
M42: 新幹線代（東京⇒○○）：1万円×50人＝50万円
A43: =IF(ISBLANK($I$65),"",IF($I$65*0.3<$I$40,"割合が2年目の申請額の30％を超えています！","")) | AA43: =IF(ISBLANK($I40),"","人件費上限：") -> 人件費上限： | AB43: =IF(ISBLANK($I40),"",I65*0.3) -> 450000
AA44: =IF(ISBLANK($I40),"",$I$65) -> 1500000 | AB44: =IF(ISBLANK($I40),"","×0.3") -> ×0.3
A45: 2.機材及び備品費
A50: 3.会議費・通信費
A55: 4.業務委託費 | F55: 1000000 | I55: 1000000 | M55: VR映像制作費 50万円
M56: ポスター制作費 50万円
A60: 5.その他経費 | F60: 60000 | I60: 50000 | M60: 会議資料印刷代
A65: 合計 | F65: =SUM(F40:H64) -> 1560000 | I65: =SUM(I40:K64) -> 1500000
A70: 2029年度（3年目）について
A71: 助成希望期間 | F71: 2029年 4月 ～ | J71: 2030 | L71: 年 | M71: 3 | O71: 月
A74: 活動計画 (250字以内） | F74: ◎〇月 VR工場見学映像の作成 ・・工場見学疑似体験用VR映像を作成しYoutube・HPへ公開。 〇月完成・公開 ◎〇月 ポスター作成 ・・トレーリサイクル啓蒙の為、消費者向けポスターを作成。スーパーマーケット○〇店舗に掲示 ◎出前事業、消費者団体とコラボした見学会の実施の定例化 ・・消費者団体の方々をリサイクル工場に招待し、意見交換を行う。月2回実施、参加予定数：〇〇名
A78: =IF(LEN(F74)>250,"文字数："&LEN(F74)&" 文字数オーバー！","")
AC79: 活動計画
AC80: 文字数 | AF80: =LEN(F74) -> 188 | AH80: 字
A82: 収入の部 | F82: 金額 （単位：円） | I82: 算定根拠・補足等
A84: 1.助成申請金額 | F84: =$I$130 -> 1500000 | I84: エフピコ環境基金
A87: 2.会費等自己資金 | F87: 10000
A90: 3.他の助成金等収入 | F90: 50000 | I90: 〇〇環境基金
A93: 4.寄付金収入
A96: 5.その他
...

Sheet リスト
A1: 年度 | B1: 月
A2: 1950 | B2: 1
A3: 1951 | B3: 2
A4: 1952 | B4: 3
A5: 1953 | B5: 4
A6: 1954 | B6: 5
A7: 1955 | B7: 6
A8: 1956 | B8: 7
A9: 1957 | B9: 8
A10: 1958 | B10: 9
A11: 1959 | B11: 10
A12: 1960 | B12: 11
A13: 1961 | B13: 12
A14: 1962
A15: 1963
A16: 1964
A17: 1965
A18: 1966
A19: 1967
A20: 1968
A21: 1969
A22: 1970
A23: 1971
A24: 1972
A25: 1973
... A79: 2027
