Workbook
Name 月: リスト!$B$2:$B$13
Name 年度: リスト!$A$2:$A$101

Sheet 申請書
U1: 管理No
A2: 2027年度「エフピコ環境基金」 助成申請書
A5: １．申請団体
A6: （フリガナ） | F6: =PHONETIC($F$7)
A7: 申請団体名
A9: （フリガナ） | F9: =PHONETIC(F10)
A10: 代表者名
A12: 事務所所在地 | F12: 〒
A15: 団体HP
A18: ２．連絡窓口
A19: 2-1 連絡主担当者
A20: （フリガナ） | F20: =PHONETIC(F21)
A21: 代表者名
A23: 事務所所在地 | F23: 〒
A26: 電話番号 | N26: E－mail
A29: 2-2 連絡副担当者
A30: （フリガナ） | F30: =PHONETIC(F31)
A31: 代表者名
A33: 事務所所在地 | F33: 〒
A36: 電話番号 | N36: E－mail
A39: ３．団体について
A40: 団体設立 | F40: 西暦 | K40: 年 | N40: 月 | O40: ※前身の団体があれば、前身の団体の設立年月
A42: 法人格取得年月 ※NPO、社団・財団法人のみ | F42: 西暦 | K42: 年 | N42: 月 | O42: ※なしの場合は「-」と記入してください。
A44: 日常の活動内容
A48: 直近事業年度 の財政状況 | F48: 期間 | K48: 年 | O48: 月 | P48: ～ | T48: 年 | X48: 月
F50: 経常収益 | P50: 経常費用
G51: 会費 | L51: 円 | M51: =IF(I51="","",I51/$I$56) | Q51: 事業費 | V51: 円 | W51: =IF(S51="","",S51/$S$53)
G52: 寄付 | L52: 円 | M52: =IF(I52="","",I52/$I$56) | Q52: 管理費 | V52: 円 | W52: =IF(S52="","",S52/$S$53)
G53: 助成金 | L53: 円 | M53: =IF(I53="","",I53/$I$56) | Q53: 合計 | S53: =SUM(S51:U52) -> 0 | V53: 円
G54: 事業収益 | L54: 円 | M54: =IF(I54="","",I54/$I$56)
G55: その他 | L55: 円 | M55: =IF(I55="","",I55/$I$56) | P55: 次期繰越金 | S55: =I56-S53 -> 0 | V55: 円
G56: 合計 | I56: =SUM(I51:K55) -> 0 | L56: 円
A57: 進行中の事業年度の財政状況（予算） | F57: 期間 | K57: 年 | O57: 月 | P57: ～ | T57: 年 | X57: 月
F59: 経常収益 | P59: 経常費用
G60: 会費 | L60: 円 | M60: =IF(I60="","",I60/$I$65) | Q60: 事業費 | V60: 円 | W60: =IF(S60="","",S60/$S$62)
G61: 寄付 | L61: 円 | M61: =IF(I61="","",I61/$I$65) | Q61: 管理費 | V61: 円 | W61: =IF(S61="","",S61/$S$62)
G62: 助成金 | L62: 円 | M62: =IF(I62="","",I62/$I$65) | Q62: 合計 | S62: =SUM(S60:U61) -> 0
G63: 事業収益 | L63: 円 | M63: =IF(I63="","",I63/$I$65)
G64: その他 | L64: 円 | M64: =IF(I64="","",I64/$I$65) | P64: 次期繰越金 | S64: =I65-S62 -> 0 | V64: 円
G65: 合計 | I65: =SUM(I60:K64) -> 0 | L65: 円
A66: 会員・会費 ※NPO、社団・財団法人のみ | F66: 総会員
L67: 人 | M67: 会費 | S67: 円/年
A69: 活動メンバー | J69: 人 | L69: ※恒常的に活動の運営に関わる人数を記入ください。
A72: ４．助成期間・助成金額
A73: 希望助成期間 | N73: 年間 | P73: 申請金額 | T73: =($I$196+'活動計画・収支予算（2年目以降）'!$I$65+'活動計画・収支予算（2年目以降）'!$I$130)/10000 -> 0 | X73: 万円
A76: ５．助成対象となる活動について
A77: 1.プロジェクト名称
A79: 2.活動分野 | F79: 選択してください
A81: 3.区分 | F81: 選択してください | N81: 継続年数※継続プロジェクトの場合のみ | Y81: 年
A83: 4.過去実績 （250字以内）
A88: =IF(LEN(F83)>250,"文字数："&LEN(F83)&" 文字数オーバー！","")
AB89: 4.過去実績
AB90: 文字数 | AE90: =LEN(F83) -> 0 | AG90: 字
A91: 5.プロジェクト概要 （250字以内）
A96: =IF(LEN(F91)>250,"文字数："&LEN(F91)&" 文字数オーバー！","")
AB97: 5.プロジェクト概要
AB98: 文字数 | AE98: =LEN($F$91) -> 0 | AG98: 字
A99: 6.活動計画 （400字以内）
A114: =IF(LEN(F99)>400,"文字数："&LEN(F99)&" 文字数オーバー！","")
AB119: 6.活動計画
AB120: 文字数 | AE120: =LEN($F$99) -> 0 | AG120: 字
A125: 7.見込まれる効果 （250字以内）
A130: =IF(LEN(F125)>250,"文字数："&LEN(F125)&" 文字数オーバー！","") | AB130: 7.見込まれる効果
AB131: 文字数 | AE131: =LEN($F$125) -> 0 | AG131: 字
A133: 8.助成期間終了後の 活動の発展について (250字以内）
A138: =IF(LEN(F133)>250,"文字数："&LEN(F133)&" 文字数オーバー！","")
AB140: 8.助成期間終了後の活動の発展について
A141: 9.補足 | AB141: 文字数 | AE141: =LEN($F$133) -> 0 | AG141: 字
A145: ６．助成対象となる活動の2027年度（2027年4月～）収支予算
B146: ※１年を超える助成を希望される場合はシート「収支予算（2年目以降）」にも記入してください。
A148: 収入の部 | F148: 金額 （単位：円） | I148: 算定根拠・補足等
A150: 1.助成申請金額 | F150: =$I$196 -> 0 | I150: エフピコ環境基金
A153: 2.会費等自己資金
A156: 3.他の助成金等収入
A159: 4.寄付金収入
A162: 5.その他
A165: 合計 | F165: =SUM(F150:H164) -> 0
F168: ↓活動全体の支出金額と、エフピコ環境基金に申請する額を分けて記入してください。
A169: 支出の部 | F169: 金額 （単位：円） | I169: うち助成申請 金額（単位：円） | M169: 算定根拠・補足等
A171: 1.人件費・旅費 ・交通費・宿泊費
A174: =IF(ISBLANK($I$196),"",IF($I$196*0.3<$I$171,"割合が１年目の申請額の30％を超えています！","")) | AA174: =IF(ISBLANK($I171),"","人件費上限：") | AB174: =IF(ISBLANK($I171),"",I196*0.3)
AA175: =IF(ISBLANK($I171),"",$I$196) | AB175: =IF(ISBLANK($I171),"","×0.3")
A176: 2.機材及び備品費
A181: 3.会議費・通信費
A186: 4.業務委託費
A191: 5.その他経費
A196: 合計 | F196: =SUM(F171:H195) -> 0 | I196: =SUM(I171:K195) -> 0
A200: ７．他団体からの支援等
A201: 支援団体名 | F201: 金額（円） | K201: 期間 | P201: 支援内容
A209: ８．推薦者
A210: ※必須事項ではありません
A211: 所属先
A213: （フリガナ） | F213: =PHONETIC($F$214)
A214: 氏名 | N214: 連絡先（Tel）
A216: コメント
A222: ９．ご注意事項
B223: 本基金の申請にあたり、貴団体は下記項目に該当しないことをを確認の上チェックを入れてください。
D226: ①営利を目的とする団体・事業ではありません。
D228: ②宗教上・政治上の主義を推進、支持し、又はこれに反対することを目的としておりません。
D230: ③暴力団、暴力団員、暴力団関係者他、反社会的勢力等と交際、関係はありません。
...

Sheet 活動計画・収支予算（2年目以降）
A1: 団体名 | C1: =IF(ISBLANK(申請書!$F$7),"",申請書!$F$7) | U1: 管理No | W1: =IF(ISBLANK(申請書!W1),"",申請書!W1)
A2: 2027年度「エフピコ環境基金」 助成申請書
A5: 2027年度（２年目）について
A6: 助成希望期間 | F6: 2028年 4月 ～ | J6: 2029 | L6: 年 | M6: 3 | O6: 月
A9: 活動計画 (250字以内）
A13: =IF(LEN(F9)>250,"文字数："&LEN(F9)&" 文字数オーバー！","")
AC14: 活動計画
AC15: 文字数 | AF15: =LEN(F9) -> 0 | AH15: 字
A17: 収入の部 | F17: 金額 （単位：円） | I17: 算定根拠・補足等
A19: 1.助成申請金額 | F19: =$I$65 -> 0 | I19: エフピコ環境基金
A22: 2.会費等自己資金
A25: 3.他の助成金等収入
A28: 4.寄付金収入
A31: 5.その他
A34: 合計 | F34: =SUM(F19:H33) -> 0
F37: ↓活動全体の支出金額と、エフピコ環境基金に申請する額を分けて記入してください。
A38: 支出の部 | F38: 金額 （単位：円） | I38: うち助成申請 金額（単位：円） | M38: 算定根拠・補足等
A40: 1.人件費・旅費 ・交通費・宿泊費
A43: =IF(ISBLANK($I$65),"",IF($I$65*0.3<$I$40,"割合が2年目の申請額の30％を超えています！","")) | AA43: =IF(ISBLANK($I40),"","人件費上限：") | AB43: =IF(ISBLANK($I40),"",I65*0.3)
AA44: =IF(ISBLANK($I40),"",$I$65) | AB44: =IF(ISBLANK($I40),"","×0.3")
A45: 2.機材及び備品費
A50: 3.会議費・通信費
A55: 4.業務委託費
A60: 5.その他経費
A65: 合計 | F65: =SUM(F40:H64) -> 0 | I65: =SUM(I40:K64) -> 0
A70: 2029年度（3年目）について
A71: 助成希望期間 | F71: 2029年 4月 ～ | J71: 2030 | L71: 年 | M71: 3 | O71: 月
A74: 活動計画 (250字以内）
A78: =IF(LEN(F74)>250,"文字数："&LEN(F74)&" 文字数オーバー！","")
AC79: 活動計画
AC80: 文字数 | AF80: =LEN(F74) -> 0 | AH80: 字
A82: 収入の部 | F82: 金額 （単位：円） | I82: 算定根拠・補足等
A84: 1.助成申請金額 | F84: =$I$130 -> 0 | I84: エフピコ環境基金
A87: 2.会費等自己資金
A90: 3.他の助成金等収入
A93: 4.寄付金収入
A96: 5.その他
A99: 合計 | F99: =SUM(F84:H98) -> 0
F102: ↓活動全体の支出金額と、エフピコ環境基金に申請する額を分けて記入してください。
A103: 支出の部 | F103: 金額 （単位：円） | I103: うち助成申請 金額（単位：円） | M103: 算定根拠・補足等
A105: 1.人件費・旅費 ・交通費・宿泊費
A108: =IF(ISBLANK($I$105),"",IF($I$130*0.3<$I$105,"割合が3年目の申請額の30％を超えています！","")) | AA108: =IF(ISBLANK($I105),"","人件費上限：") | AB108: =IF(ISBLANK($I105),"",I130*0.3)
AA109: =IF(ISBLANK($I105),"",$I$130) | AB109: =IF(ISBLANK($I105),"","×0.3")
A110: 2.機材及び備品費
A115: 3.会議費・通信費
A120: 4.業務委託費
A125: 5.その他経費
A130: 合計 | F130: =SUM(F105:H129) -> 0 | I130: =SUM(I105:K129) -> 0

Sheet 【記入例】申請書
U1: 管理No
A2: 2027年度「エフピコ環境基金」 助成申請書
A5: １．申請団体
A6: （フリガナ） | F6: =PHONETIC($F$7) -> NPO法人エフピコ
A7: 申請団体名 | F7: NPO法人エフピコ
A9: （フリガナ） | F9: =PHONETIC(F10) -> エフピコ 太郎
A10: 代表者名 | F10: エフピコ 太郎
A12: 事務所所在地 | F12: 〒 | G12: 163-6037
F13: 東京都新宿区西新宿六丁目８番１号 新宿オークタワー3７階
A15: 団体HP | F15: https://www.fpco.jp/esg/environmenteffort/environmentalfund.html
A18: ２．連絡窓口
A19: 2-1 連絡主担当者
A20: （フリガナ） | F20: =PHONETIC(F21) -> エフピコ 太郎
A21: 代表者名 | F21: エフピコ 太郎
A23: 事務所所在地 | F23: 〒
F24: 同上
A26: 電話番号 | F26: 03-5325-7809 | N26: E－mail | Q26: fp-kankyokikin@fpco-net.co.jp
A29: 2-2 連絡副担当者
A30: （フリガナ） | F30: =PHONETIC(F31) -> エフピコ 次郎
A31: 代表者名 | F31: エフピコ 次郎
A33: 事務所所在地 | F33: 〒
F34: 同上
A36: 電話番号 | F36: 090-5325-×××× | N36: E－mail | Q36: fp-kankyokikin@fpco-net.co.jp
A39: ３．団体について
A40: 団体設立 | F40: 西暦 | H40: 1962 | K40: 年 | L40: 7 | N40: 月 | O40: ※前身の団体があれば、前身の団体の設立年月
A42: 法人格取得年月 ※NPO、社団・財団法人のみ | F42: 西暦 | H42: 1962 | K42: 年 | L42: 7 | N42: 月 | O42: ※なしの場合は「-」と記入してください。
A44: 日常の活動内容 | F44: 食品容器及びPETボトルの回収・リサイクル活動
A48: 直近事業年度 の財政状況 | F48: 期間 | H48: 2025 | K48: 年 | L48: 4 | O48: 月 | P48: ～ | Q48: 2026 | T48: 年 | U48: 3 | X48: 月
F50: 経常収益 | P50: 経常費用
G51: 会費 | I51: 10000 | L51: 円 | M51: =IF(I51="","",I51/$I$56) -> 0.0066666667 | Q51: 事業費 | S51: 1450000 | V51: 円 | W51: =IF(S51="","",S51/$S$53) -> 1
G52: 寄付 | I52: 100000 | L52: 円 | M52: =IF(I52="","",I52/$I$56) -> 0.066666667 | Q52: 管理費 | V52: 円 | W52: =IF(S52="","",S52/$S$53)
G53: 助成金 | I53: 1000000 | L53: 円 | M53: =IF(I53="","",I53/$I$56) -> 0.66666667 | Q53: 合計 | S53: =SUM(S51:U52) -> 1450000 | V53: 円
G54: 事業収益 | I54: 340000 | L54: 円 | M54: =IF(I54="","",I54/$I$56) -> 0.22666667
G55: その他 | I55: 50000 | L55: 円 | M55: =IF(I55="","",I55/$I$56) -> 0.033333333 | P55: 次期繰越金 | S55: =I56-S53 -> 50000 | V55: 円
G56: 合計 | I56: =SUM(I51:K55) -> 1500000 | L56: 円
A57: 進行中の事業年度の財政状況（予算） | F57: 期間 | H57: 2026 | K57: 年 | L57: 4 | O57: 月 | P57: ～ | Q57: 2027 | T57: 年 | U57: 3 | X57: 月
F59: 経常収益 | P59: 経常費用
G60: 会費 | I60: 10000 | L60: 円 | M60: =IF(I60="","",I60/$I$65) -> 0.0068965517 | Q60: 事業費 | S60: 1450000 | V60: 円 | W60: =IF(S60="","",S60/$S$62) -> 1
G61: 寄付 | I61: 100000 | L61: 円 | M61: =IF(I61="","",I61/$I$65) -> 0.068965517 | Q61: 管理費 | V61: 円 | W61: =IF(S61="","",S61/$S$62)
G62: 助成金 | I62: 1000000 | L62: 円 | M62: =IF(I62="","",I62/$I$65) -> 0.68965517 | Q62: 合計 | S62: =SUM(S60:U61) -> 1450000
G63: 事業収益 | I63: 340000 | L63: 円 | M63: =IF(I63="","",I63/$I$65) -> 0.23448276
G64: その他 | L64: 円 | M64: =IF(I64="","",I64/$I$65) | P64: 次期繰越金 | S64: =I65-S62 -> 0 | V64: 円
G65: 合計 | I65: =SUM(I60:K64) -> 1450000 | L65: 円
A66: 会員・会費 ※NPO、社団・財団法人のみ | F66: 総会員 | I66: 10 | P66: 1000
L67: 人 | M67: 会費 | S67: 円/年
A69: 活動メンバー | F69: 5 | J69: 人 | L69: ※恒常的に活動の運営に関わる人数を記入ください。
A72: ４．助成期間・助成金額
A73: 希望助成期間 | F73: 3 | N73: 年間 | P73: 申請金額 | T73: =($I$196+'活動計画・収支予算（2年目以降）'!$I$65+'活動計画・収支予算（2年目以降）'!$I$130)/10000 -> 150 | X73: 万円
A76: ５．助成対象となる活動について
A77: 1.プロジェクト名称 | F77: エフピコ方式リサイクル「トレーtoトレー」「ボトルtoトレー」の拡大
A79: 2.活動分野 | F79: ①環境保全活動
A81: 3.区分 | F81: 継続プロジェクト | N81: 継続年数※継続プロジェクトの場合のみ | W81: 30 | Y81: 年
A83: 4.過去実績 （250字以内） | F83: 1990年からスタートしたエフピコ方式のリサイクルは消費者の皆様のご協力をいただき、 〇年〇月現在、使用済み容器の回収拠点はスーパーマーケットの店頭など全国〇ヶ所を超えている。 ・工場見学者実績：〇人 ・累計工場見学者実績：〇人 ・回収量：発泡トレー〇トン、透明容器〇トン、PETボトル〇トン ・累計回収量：発泡トレー 〇トン、透明容器 〇トン、PETボトル 〇トン
A88: =IF(LEN(F83)>250,"文字数："&LEN(F83)&" 文字数オーバー！","")
AB89: 4.過去実績
AB90: 文字数 | AE90: =LEN(F83) -> 183 | AG90: 字
A91: 5.プロジェクト概要 （250字以内） | F91: 《目的・概要》 循環型社会の実現に向け、使用済み容器やPETボトルで再生容器「エコトレー」を生産している。本活動では、再生原料の回収量増加を目的として一般消費者へ啓発活動、工場見学、出前事業を行う。 《現状回収量》 発泡トレー〇トン、透明容器〇トン、PETボトル〇トン 《回収量目標》 発泡トレー〇トン、透明容器〇トン、PETボトル〇トン 《参加者目標》 出前事業、工場見学ツアーと合わせ期間合計○〇人
A96: =IF(LEN(F91)>250,"文字数："&LEN(F91)&" 文字数オーバー！","")
AB97: 5.プロジェクト概要
AB98: 文字数 | AE98: =LEN($F$91) -> 201 | AG98: 字
A99: 6.活動計画 （400字以内） | F99: 《持続可能性》 地上資源を循環資源のリサイクルは、リデュースにも貢献。また、エコトレーはバージン製品と比較し約30％のCO2排出低減効果がありCO2排出削減にもつながっている。 《活動スケジュール》 ◎〇月 VR工場見学映像の作成 ・・工場見学疑似体験用VR映像を作成しYoutube・HPへ公開。 〇月完成・公開 ◎〇月 ポスター作成 ・・トレーリサイクル啓蒙の為、消費者向けポスターを作成。スーパーマーケット○〇店舗に掲示 ◎出前事業、消費者団体とコラボした見学会の実施の定例化 ・・消費者団体の方々をリサイクル工場に招待し、意見交換を行う。月2回実施、参加予定数：〇〇名 《エフピコとコラボレーションの可能性》 ・VR及びポスターはエフピコ環境基金ロゴを入れる事が可能 ・見学会については対応スタッフの服にロゴシールを貼り付けて活動が可能 ・エフピコ社員をボランティアとして受け入れ可能
A114: =IF(LEN(F99)>400,"文字数："&LEN(F99)&" 文字数オーバー！","")
AB119: 6.活動計画
AB120: 文字数 | AE120: =LEN($F$99) -> 398 | AG120: 字
A125: 7.見込まれる効果 （250字以内） | F125: ・動画やポスターを用いた一般消費者への啓発により容器及びPETボトルを回収が増加する事はごみの減量化につながる。本期間は活動強化により回収量〇トンの増加を見込む。 ・エコトレーはバージン製品と比較し、CO2排出量を約30％低減可能。2019年度はCO２排出を約16万トン削減しており、2020年度も同水準の削減効果が見込む。 《ダイバーシティ》 全国10か所の回収容器選別工場では知的障がいのある従業員が作業を行っている。 回収量の増加は、収入源の増加となる為、平均賃金を月○○円アップを見込む。
A130: =IF(LEN(F125)>250,"文字数："&LEN(F125)&" 文字数オーバー！","") | AB130: 7.見込まれる効果
AB131: 文字数 | AE131: =LEN($F$125) -> 248 | AG131: 字
A133: 8.助成期間終了後の 活動の発展について (250字以内） | F133: エフピコ方式のリサイクルは30年を迎え、使用済み容器の回収は社会インフラとして定着している。現在、トレー回収率は〇％ほどであるため、引き続きリサイクルに注力しかつ一般消費者への啓発を継続することで〇〇年までに回収率を〇％まで高めていく。
A138: =IF(LEN(F133)>250,"文字数："&LEN(F133)&" 文字数オーバー！","")
AB140: 8.助成期間終了後の活動の発展について
A141: 9.補足 | AB141: 文字数 | AE141: =LEN($F$133) -> 118 | AG141: 字
A145: ６．助成対象となる活動の2027年度（2027年4月～）収支予算
B146: ※１年を超える助成を希望される場合はシート「収支予算（2年目以降）」にも記入してください。
A148: 収入の部 | F148: 金額 （単位：円） | I148: 算定根拠・補足等
A150: 1.助成申請金額 | F150: =$I$196 -> 1500000 | I150: エフピコ環境基金
A153: 2.会費等自己資金 | F153: 10000
A156: 3.他の助成金等収入 | F156: 50000 | I156: 〇〇環境基金
A159: 4.寄付金収入
A162: 5.その他
A165: 合計 | F165: =SUM(F150:H164) -> 1560000
F168: ↓活動全体の支出金額と、エフピコ環境基金に申請する額を分けて記入してください。
A169: 支出の部 | F169: 金額 （単位：円） | I169: うち助成申請 金額（単位：円） | M169: 算定根拠・補足等
A171: 1.人件費・旅費 ・交通費・宿泊費 | F171: 500000 | I171: 450000 | M171: 消費者団体交通費
M172: 現地調査アルバイト代：1,000円/時×50人×10時間
M173: 新幹線代（東京⇒○○）：1万円×50人＝50万円
A174: =IF(ISBLANK($I$196),"",IF($I$196*0.3<$I$171,"割合が１年目の申請額の30％を超えています！","")) | AA174: =IF(ISBLANK($I171),"","人件費上限：") -> 人件費上限： | AB174: =IF(ISBLANK($I171),"",I196*0.3) -> 450000
AA175: =IF(ISBLANK($I171),"",$I$196) -> 1500000 | AB175: =IF(ISBLANK($I171),"","×0.3") -> ×0.3
A176: 2.機材及び備品費 | F176: 240000 | I176: 0
A181: 3.会議費・通信費
A186: 4.業務委託費 | F186: 1000000 | I186: 1000000 | M186: VR映像制作費 50万円
M187: ポスター制作費 50万円
A191: 5.その他経費 | F191: 60000 | I191: 50000 | M191: 会議資料印刷代
A196: 合計 | F196: =SUM(F171:H195) -> 1800000 | I196: =SUM(I171:K195) -> 1500000
A200: ７．他団体からの支援等
A201: 支援団体名 | F201: 金額（円） | K201: 期間 | P201: 支援内容
A202: ○○環境基金 | F202: 50000 | K202: 2027年4月～2028年3月 | P202: 運営資金、物品の支援等
A209: ８．推薦者
A210: ※必須事項ではありません
A211: 所属先 | F211: ○○大学 教授
A213: （フリガナ） | F213: =PHONETIC($F$214) -> 環境 花子
...

Sheet 【記入例】活動計画・収支予算（2年目以降)
A1: 団体名 | C1: =IF(ISBLANK(申請書!$F$7),"",申請書!$F$7) | U1: 管理No | W1: =IF(ISBLANK(申請書!W1),"",申請書!W1)
A2: 2027年度「エフピコ環境基金」 助成申請書
A5: 2027年度（２年目）について
A6: 助成希望期間 | F6: 2028年 4月 ～ | J6: 2029 | L6: 年 | M6: 3 | O6: 月
A9: 活動計画 (250字以内） | F9: ◎〇月 VR工場見学映像の作成 ・・工場見学疑似体験用VR映像を作成しYoutube・HPへ公開。 〇月完成・公開 ◎〇月 ポスター作成 ・・トレーリサイクル啓蒙の為、消費者向けポスターを作成。スーパーマーケット○〇店舗に掲示 ◎出前事業、消費者団体とコラボした見学会の実施の定例化 ・・消費者団体の方々をリサイクル工場に招待し、意見交換を行う。月2回実施、参加予定数：〇〇名
A13: =IF(LEN(F9)>250,"文字数："&LEN(F9)&" 文字数オーバー！","")
AC14: 活動計画
AC15: 文字数 | AF15: =LEN(F9) -> 188 | AH15: 字
A17: 収入の部 | F17: 金額 （単位：円） | I17: 算定根拠・補足等
A19: 1.助成申請金額 | F19: =$I$65 -> 1500000 | I19: エフピコ環境基金
A22: 2.会費等自己資金 | F22: 10000
A25: 3.他の助成金等収入 | F25: 50000 | I25: 〇〇環境基金
A28: 4.寄付金収入
A31: 5.その他
A34: 合計 | F34: =SUM(F19:H33) -> 1560000
F37: ↓活動全体の支出金額と、エフピコ環境基金に申請する額を分けて記入してください。
A38: 支出の部 | F38: 金額 （単位：円） | I38: うち助成申請 金額（単位：円） | M38: 算定根拠・補足等
A40: 1.人件費・旅費 ・交通費・宿泊費 | F40: 500000 | I40: 450000 | M40: 消費者団体交通費
M41: 現地調査アルバイト代：1,000円/時×50人×10時間
M42: 新幹線代（東京⇒○○）：1万円×50人＝50万円
A43: =IF(ISBLANK($I$65),"",IF($I$65*0.3<$I$40,"割合が2年目の申請額の30％を超えています！","")) | AA43: =IF(ISBLANK($I40),"","人件費上限：") -> 人件費上限： | AB43: =IF(ISBLANK($I40),"",I65*0.3) -> 450000
AA44: =IF(ISBLANK($I40),"",$I$65) -> 1500000 | AB44: =IF(ISBLANK($I40),"","×0.3") -> ×0.3
A45: 2.機材及び備品費
A50: 3.会議費・通信費
A55: 4.業務委託費 | F55: 1000000 | I55: 1000000 | M55: VR映像制作費 50万円
M56: ポスター制作費 50万円
A60: 5.その他経費 | F60: 60000 | I60: 50000 | M60: 会議資料印刷代
A65: 合計 | F65: =SUM(F40:H64) -> 1560000 | I65: =SUM(I40:K64) -> 1500000
A70: 2029年度（3年目）について
A71: 助成希望期間 | F71: 2029年 4月 ～ | J71: 2030 | L71: 年 | M71: 3 | O71: 月
A74: 活動計画 (250字以内） | F74: ◎〇月 VR工場見学映像の作成 ・・工場見学疑似体験用VR映像を作成しYoutube・HPへ公開。 〇月完成・公開 ◎〇月 ポスター作成 ・・トレーリサイクル啓蒙の為、消費者向けポスターを作成。スーパーマーケット○〇店舗に掲示 ◎出前事業、消費者団体とコラボした見学会の実施の定例化 ・・消費者団体の方々をリサイクル工場に招待し、意見交換を行う。月2回実施、参加予定数：〇〇名
A78: =IF(LEN(F74)>250,"文字数："&LEN(F74)&" 文字数オーバー！","")
AC79: 活動計画
AC80: 文字数 | AF80: =LEN(F74) -> 188 | AH80: 字
A82: 収入の部 | F82: 金額 （単位：円） | I82: 算定根拠・補足等
A84: 1.助成申請金額 | F84: =$I$130 -> 1500000 | I84: エフピコ環境基金
A87: 2.会費等自己資金 | F87: 10000
A90: 3.他の助成金等収入 | F90: 50000 | I90: 〇〇環境基金
A93: 4.寄付金収入
A96: 5.その他
A99: 合計 | F99: =SUM(F84:H98) -> 1560000
F102: ↓活動全体の支出金額と、エフピコ環境基金に申請する額を分けて記入してください。
A103: 支出の部 | F103: 金額 （単位：円） | I103: うち助成申請 金額（単位：円） | M103: 算定根拠・補足等
A105: 1.人件費・旅費 ・交通費・宿泊費 | F105: 500000 | I105: 450000 | M105: 消費者団体交通費
M106: 現地調査アルバイト代：1,000円/時×50人×10時間
M107: 新幹線代（東京⇒○○）：1万円×50人＝50万円
A108: =IF(ISBLANK($I$105),"",IF($I$130*0.3<$I$105,"割合が3年目の申請額の30％を超えています！","")) | AA108: =IF(ISBLANK($I105),"","人件費上限：") -> 人件費上限： | AB108: =IF(ISBLANK($I105),"",I130*0.3) -> 450000
AA109: =IF(ISBLANK($I105),"",$I$130) -> 1500000 | AB109: =IF(ISBLANK($I105),"","×0.3") -> ×0.3
A110: 2.機材及び備品費
A115: 3.会議費・通信費
A120: 4.業務委託費 | F120: 1000000 | I120: 1000000 | M120: VR映像制作費 50万円
M121: ポスター制作費 50万円
A125: 5.その他経費 | F125: 60000 | I125: 50000 | M125: 会議資料印刷代
A130: 合計 | F130: =SUM(F105:H129) -> 1560000 | I130: =SUM(I105:K129) -> 1500000

Sheet リスト
A1: 年度 | B1: 月
A2: 1950 | B2: 1
A3: 1951 | B3: 2
A4: 1952 | B4: 3
A5: 1953 | B5: 4
A6: 1954 | B6: 5
A7: 1955 | B7: 6
A8: 1956 | B8: 7
A9: 1957 | B9: 8
A10: 1958 | B10: 9
A11: 1959 | B11: 10
A12: 1960 | B12: 11
A13: 1961 | B13: 12
A14: 1962
A15: 1963
A16: 1964
A17: 1965
A18: 1966
A19: 1967
A20: 1968
A21: 1969
A22: 1970
A23: 1971
A24: 1972
A25: 1973
... A79: 2027
